BEGIN:VCALENDAR
VERSION:2.0
CALSCALE:GREGORIAN
PRODID:-//Diputació de Barcelona//DibaCMS//EN
BEGIN:VEVENT
UID:9544
DTSTAMP:20260425T011457
DTSTART:20220610T220000
DTEND:20220610T000000
SUMMARY:La vida a l'espai. Sessions d'astronomia adults
LOCATION:
METHOD:PUBLISH
X-WR-CALNAME:info@parets.cat
X-WR-TIMEZONE:Europe/Madrid
DESCRIPTION:Organitza: Escola de la Natura
URI:https://www.parets.cat/actualitat/agenda/la-vida-a-lespai-sessions-dastronomia-adults.html
CLASS:PUBLIC
END:VEVENT
END:VCALENDAR
