BEGIN:VCALENDAR
VERSION:2.0
CALSCALE:GREGORIAN
PRODID:-//Diputació de Barcelona//DibaCMS//EN
BEGIN:VEVENT
UID:9545
DTSTAMP:20260424T213310
DTSTART:20220610T103000
DTEND:20220610T120000
SUMMARY:Tècniques per a una memòria saludable
LOCATION:
METHOD:PUBLISH
X-WR-CALNAME:info@parets.cat
X-WR-TIMEZONE:Europe/Madrid
DESCRIPTION:Organitza: Casal de Ca n'Oms
URI:https://www.parets.cat/actualitat/agenda/9545-tecniques-per-a-una-memoria-saludable.html
CLASS:PUBLIC
END:VEVENT
END:VCALENDAR
