BEGIN:VCALENDAR
VERSION:2.0
CALSCALE:GREGORIAN
PRODID:-//Diputació de Barcelona//DibaCMS//EN
BEGIN:VEVENT
UID:9547
DTSTAMP:20260425T010152
DTSTART:20220610T000000
DTEND:20220610T000000
SUMMARY:Lliurament de premis del joc d'enginy "Endevina-la"
LOCATION:
METHOD:PUBLISH
X-WR-CALNAME:info@parets.cat
X-WR-TIMEZONE:Europe/Madrid
DESCRIPTION:Organitza: Oficina de Català i Servei de Comerç
URI:https://www.parets.cat/actualitat/agenda/lliurament-de-premis-del-joc-denginy-endevina-la.html
CLASS:PUBLIC
END:VEVENT
END:VCALENDAR
