BEGIN:VCALENDAR
VERSION:2.0
CALSCALE:GREGORIAN
PRODID:-//Diputació de Barcelona//DibaCMS//EN
BEGIN:VEVENT
UID:9548
DTSTAMP:20260425T011731
DTSTART:20220611T090000
DTEND:20220611T200000
SUMMARY:Torneig de cadets de 1a divisió (fase prèvia)
LOCATION:
METHOD:PUBLISH
X-WR-CALNAME:info@parets.cat
X-WR-TIMEZONE:Europe/Madrid
DESCRIPTION:Organitza: Penya Blaugrana Parets
URI:https://www.parets.cat/actualitat/agenda/torneig-de-cadets-de-1a-divisio-fase-previa.html
CLASS:PUBLIC
END:VEVENT
END:VCALENDAR
