BEGIN:VCALENDAR
VERSION:2.0
CALSCALE:GREGORIAN
PRODID:-//Diputació de Barcelona//DibaCMS//EN
BEGIN:VEVENT
UID:9549
DTSTAMP:20260424T232018
DTSTART:20220611T000000
DTEND:20220612T000000
SUMMARY:FOTOgraphic Parets 2022
LOCATION:
METHOD:PUBLISH
X-WR-CALNAME:info@parets.cat
X-WR-TIMEZONE:Europe/Madrid
DESCRIPTION:Organitza: Associació Fotogràfica Parets
URI:https://www.parets.cat/actualitat/agenda/9549-fotographic-parets-2022.html
CLASS:PUBLIC
END:VEVENT
END:VCALENDAR
