BEGIN:VCALENDAR
VERSION:2.0
CALSCALE:GREGORIAN
PRODID:-//Diputació de Barcelona//DibaCMS//EN
BEGIN:VEVENT
UID:9551
DTSTAMP:20260424T231650
DTSTART:20220612T100000
DTEND:20220612T170000
SUMMARY:Torneig de cadets de 1a divisió (fase final)
LOCATION:
METHOD:PUBLISH
X-WR-CALNAME:info@parets.cat
X-WR-TIMEZONE:Europe/Madrid
DESCRIPTION:Organitza: Penya Blaugrana Parets
URI:https://www.parets.cat/actualitat/agenda/torneig-de-cadets-de-1a-divisio-fase-final.html
CLASS:PUBLIC
END:VEVENT
END:VCALENDAR
