BEGIN:VCALENDAR
VERSION:2.0
CALSCALE:GREGORIAN
PRODID:-//Diputació de Barcelona//DibaCMS//EN
BEGIN:VEVENT
UID:9552
DTSTAMP:20260424T214334
DTSTART:20220612T000000
DTEND:20220612T000000
SUMMARY:Dinar del 42è aniversari de la Penya Blaugrana de Parets
LOCATION:
METHOD:PUBLISH
X-WR-CALNAME:info@parets.cat
X-WR-TIMEZONE:Europe/Madrid
DESCRIPTION:Organitza: Penya Blaugrana Parets
URI:https://www.parets.cat/actualitat/agenda/dinar-del-42e-aniversari-de-la-penya-blaugrana-de-parets.html
CLASS:PUBLIC
END:VEVENT
END:VCALENDAR
