BEGIN:VCALENDAR
VERSION:2.0
CALSCALE:GREGORIAN
PRODID:-//Diputació de Barcelona//DibaCMS//EN
BEGIN:VEVENT
UID:9554
DTSTAMP:20260424T023111
DTSTART:20220613T180000
DTEND:20220613T000000
SUMMARY:La importància de cuidar-se i com els olis essencials poden ajudar-nos
LOCATION:
METHOD:PUBLISH
X-WR-CALNAME:info@parets.cat
X-WR-TIMEZONE:Europe/Madrid
DESCRIPTION:Organitza: Biblioteca Can Butjosa
URI:https://www.parets.cat/actualitat/agenda/la-importancia-de-cuidar-se-i-com-els-olis-essencials-poden-ajudar-nos.html
CLASS:PUBLIC
END:VEVENT
END:VCALENDAR
