BEGIN:VCALENDAR
VERSION:2.0
CALSCALE:GREGORIAN
PRODID:-//Diputació de Barcelona//DibaCMS//EN
BEGIN:VEVENT
UID:9557
DTSTAMP:20260424T181207
DTSTART:20220613T180000
DTEND:20220613T000000
SUMMARY:Espectacle de Playback
LOCATION:
METHOD:PUBLISH
X-WR-CALNAME:info@parets.cat
X-WR-TIMEZONE:Europe/Madrid
DESCRIPTION:Organitza: Servei de Gent Gran
URI:https://www.parets.cat/actualitat/agenda/espectacle-de-playback.html
CLASS:PUBLIC
END:VEVENT
END:VCALENDAR
