BEGIN:VCALENDAR
VERSION:2.0
CALSCALE:GREGORIAN
PRODID:-//Diputació de Barcelona//DibaCMS//EN
BEGIN:VEVENT
UID:9558
DTSTAMP:20260424T022750
DTSTART:20220614T181500
DTEND:20220614T000000
SUMMARY:Taller familiar Any de Rondalles
LOCATION:
METHOD:PUBLISH
X-WR-CALNAME:info@parets.cat
X-WR-TIMEZONE:Europe/Madrid
DESCRIPTION:Organitza: Biblioteca Can Butjosa
URI:https://www.parets.cat/actualitat/agenda/9558-taller-familiar-any-de-rondalles.html
CLASS:PUBLIC
END:VEVENT
END:VCALENDAR
