BEGIN:VCALENDAR
VERSION:2.0
CALSCALE:GREGORIAN
PRODID:-//Diputació de Barcelona//DibaCMS//EN
BEGIN:VEVENT
UID:9559
DTSTAMP:20260424T041853
DTSTART:20220614T160000
DTEND:20220614T000000
SUMMARY:Xocolatada. Dins les 31 Jornades dels Nostres Avis.
LOCATION:
METHOD:PUBLISH
X-WR-CALNAME:info@parets.cat
X-WR-TIMEZONE:Europe/Madrid
DESCRIPTION:Organitza: Servei de Gent Gran
URI:https://www.parets.cat/actualitat/agenda/xocolatada-dins-les-31-jornades-dels-nostres-avis.html
CLASS:PUBLIC
END:VEVENT
END:VCALENDAR
