BEGIN:VCALENDAR
VERSION:2.0
CALSCALE:GREGORIAN
PRODID:-//Diputació de Barcelona//DibaCMS//EN
BEGIN:VEVENT
UID:9560
DTSTAMP:20260424T022029
DTSTART:20220615T173000
DTEND:20220615T000000
SUMMARY:Exhibició de country i ball en línia
LOCATION:
METHOD:PUBLISH
X-WR-CALNAME:info@parets.cat
X-WR-TIMEZONE:Europe/Madrid
DESCRIPTION:Organitza: Servei de Gent Gran
URI:https://www.parets.cat/actualitat/agenda/exhibicio-de-country-i-ball-en-linia.html
CLASS:PUBLIC
END:VEVENT
END:VCALENDAR
