BEGIN:VCALENDAR
VERSION:2.0
CALSCALE:GREGORIAN
PRODID:-//Diputació de Barcelona//DibaCMS//EN
BEGIN:VEVENT
UID:9562
DTSTAMP:20260424T054710
DTSTART:20220616T180000
DTEND:20220616T000000
SUMMARY:Hora del conte a càrrec de Mercè Martínez, d'Un Conte al Sac
LOCATION:
METHOD:PUBLISH
X-WR-CALNAME:info@parets.cat
X-WR-TIMEZONE:Europe/Madrid
DESCRIPTION:Organitza: Biblioteca Can Butjosa
URI:https://www.parets.cat/actualitat/agenda/9562-hora-del-conte-a-carrec-de-merce-martinez-dun-conte-al-sac.html
CLASS:PUBLIC
END:VEVENT
END:VCALENDAR
