BEGIN:VCALENDAR
VERSION:2.0
CALSCALE:GREGORIAN
PRODID:-//Diputació de Barcelona//DibaCMS//EN
BEGIN:VEVENT
UID:9563
DTSTAMP:20260424T023012
DTSTART:20220616T180000
DTEND:20220616T000000
SUMMARY:Actuació de la Coral del Casal Sant Jordi i recital poètic del Casal Ca n'Oms
LOCATION:
METHOD:PUBLISH
X-WR-CALNAME:info@parets.cat
X-WR-TIMEZONE:Europe/Madrid
DESCRIPTION:Organitza: Servei de Gent Gran
URI:https://www.parets.cat/actualitat/agenda/actuacio-de-la-coral-del-casal-sant-jordi-i-recital-poetic-del-casal-ca-noms.html
CLASS:PUBLIC
END:VEVENT
END:VCALENDAR
