BEGIN:VCALENDAR
VERSION:2.0
CALSCALE:GREGORIAN
PRODID:-//Diputació de Barcelona//DibaCMS//EN
BEGIN:VEVENT
UID:9565
DTSTAMP:20260424T041114
DTSTART:20220617T210000
DTEND:20220617T235500
SUMMARY:Els senyors de la nit. Sortida nocturna.
LOCATION:
METHOD:PUBLISH
X-WR-CALNAME:info@parets.cat
X-WR-TIMEZONE:Europe/Madrid
DESCRIPTION:Organitza: Escola de la Natura
URI:https://www.parets.cat/actualitat/agenda/els-senyors-de-la-nit-sortida-nocturna.html
CLASS:PUBLIC
END:VEVENT
END:VCALENDAR
