BEGIN:VCALENDAR
VERSION:2.0
CALSCALE:GREGORIAN
PRODID:-//Diputació de Barcelona//DibaCMS//EN
BEGIN:VEVENT
UID:9566
DTSTAMP:20260424T004237
DTSTART:20220617T173000
DTEND:20220617T000000
SUMMARY:Les taques i les flamarades del Sol. Sessions d'astronomia Infantil
LOCATION:
METHOD:PUBLISH
X-WR-CALNAME:info@parets.cat
X-WR-TIMEZONE:Europe/Madrid
DESCRIPTION:Organitza: Escola de la Natura
URI:https://www.parets.cat/actualitat/agenda/les-taques-i-les-flamarades-del-sol-sessions-dastronomia-infantil.html
CLASS:PUBLIC
END:VEVENT
END:VCALENDAR
