BEGIN:VCALENDAR
VERSION:2.0
CALSCALE:GREGORIAN
PRODID:-//Diputació de Barcelona//DibaCMS//EN
BEGIN:VEVENT
UID:9567
DTSTAMP:20260424T021336
DTSTART:20220617T220000
DTEND:20220617T000000
SUMMARY:Ball amb l'actuació del grup Chocolat
LOCATION:
METHOD:PUBLISH
X-WR-CALNAME:info@parets.cat
X-WR-TIMEZONE:Europe/Madrid
DESCRIPTION:Organitza: Servei de Gent Gran
URI:https://www.parets.cat/actualitat/agenda/ball-amb-lactuacio-del-grup-chocolat.html
CLASS:PUBLIC
END:VEVENT
END:VCALENDAR
