BEGIN:VCALENDAR
VERSION:2.0
CALSCALE:GREGORIAN
PRODID:-//Diputació de Barcelona//DibaCMS//EN
BEGIN:VEVENT
UID:9568
DTSTAMP:20260424T034545
DTSTART:20220618T100000
DTEND:20220618T120000
SUMMARY:24 Trobada de puntaires i primera trobada multilabors
LOCATION:
METHOD:PUBLISH
X-WR-CALNAME:info@parets.cat
X-WR-TIMEZONE:Europe/Madrid
DESCRIPTION:Organitza: Servei de Gent Gran
URI:https://www.parets.cat/actualitat/agenda/24-trobada-de-puntaires-i-primera-trobada-multilabors.html
CLASS:PUBLIC
END:VEVENT
END:VCALENDAR
