BEGIN:VCALENDAR
VERSION:2.0
CALSCALE:GREGORIAN
PRODID:-//Diputació de Barcelona//DibaCMS//EN
BEGIN:VEVENT
UID:9570
DTSTAMP:20260424T053715
DTSTART:20220619T120000
DTEND:20220619T000000
SUMMARY:Sortida en autocar a Olot. Cloenda 31 Jornades dels Nostres Avis
LOCATION:
METHOD:PUBLISH
X-WR-CALNAME:info@parets.cat
X-WR-TIMEZONE:Europe/Madrid
DESCRIPTION:Organitza: Servei de Gent Gran
URI:https://www.parets.cat/actualitat/agenda/sortida-en-autocar-a-olot-cloenda-31-jornades-dels-nostres-avis.html
CLASS:PUBLIC
END:VEVENT
END:VCALENDAR
