BEGIN:VCALENDAR
VERSION:2.0
CALSCALE:GREGORIAN
PRODID:-//Diputació de Barcelona//DibaCMS//EN
BEGIN:VEVENT
UID:9572
DTSTAMP:20260424T020842
DTSTART:20220620T150000
DTEND:20220620T160000
SUMMARY:Cafè Comerç. L’associacionisme comercial
LOCATION:
METHOD:PUBLISH
X-WR-CALNAME:info@parets.cat
X-WR-TIMEZONE:Europe/Madrid
DESCRIPTION:Organitza: Ajuntament de Parets del Vallès. Departament de Comerç
URI:https://www.parets.cat/actualitat/agenda/cafe-comerc-lassociacionisme-comercial.html
CLASS:PUBLIC
END:VEVENT
END:VCALENDAR
