BEGIN:VCALENDAR
VERSION:2.0
CALSCALE:GREGORIAN
PRODID:-//Diputació de Barcelona//DibaCMS//EN
BEGIN:VEVENT
UID:9573
DTSTAMP:20260424T041830
DTSTART:20220620T190000
DTEND:20220620T000000
SUMMARY:Conversation group in english
LOCATION:
METHOD:PUBLISH
X-WR-CALNAME:info@parets.cat
X-WR-TIMEZONE:Europe/Madrid
DESCRIPTION:Organitza: Biblioteca Can Rajoler
URI:https://www.parets.cat/actualitat/agenda/9573-conversation-group-in-english.html
CLASS:PUBLIC
END:VEVENT
END:VCALENDAR
