BEGIN:VCALENDAR
VERSION:2.0
CALSCALE:GREGORIAN
PRODID:-//Diputació de Barcelona//DibaCMS//EN
BEGIN:VEVENT
UID:9575
DTSTAMP:20260424T042617
DTSTART:20220621T180000
DTEND:20220621T190000
SUMMARY:Hora del conte Petits grans monstres i entrega de premis del XXV Concurs de Punts de llibre
LOCATION:
METHOD:PUBLISH
X-WR-CALNAME:info@parets.cat
X-WR-TIMEZONE:Europe/Madrid
DESCRIPTION:Organitza: Biblioteca Can Rajoler
URI:https://www.parets.cat/actualitat/agenda/hora-del-conte-petits-grans-monstres-i-entrega-de-premis-del-xxv-concurs-de-punts-de-llibre.html
CLASS:PUBLIC
END:VEVENT
END:VCALENDAR
