BEGIN:VCALENDAR
VERSION:2.0
CALSCALE:GREGORIAN
PRODID:-//Diputació de Barcelona//DibaCMS//EN
BEGIN:VEVENT
UID:9576
DTSTAMP:20260424T021000
DTSTART:20220622T173000
DTEND:20220622T000000
SUMMARY:Jornada de portes obertes de Txi Kung
LOCATION:
METHOD:PUBLISH
X-WR-CALNAME:info@parets.cat
X-WR-TIMEZONE:Europe/Madrid
DESCRIPTION:Organitza: Servei de Gent Gran
URI:https://www.parets.cat/actualitat/agenda/jornada-de-portes-obertes-de-txi-kung.html
CLASS:PUBLIC
END:VEVENT
END:VCALENDAR
