BEGIN:VCALENDAR
VERSION:2.0
CALSCALE:GREGORIAN
PRODID:-//Diputació de Barcelona//DibaCMS//EN
BEGIN:VEVENT
UID:9578
DTSTAMP:20260424T164213
DTSTART:20220628T180000
DTEND:20220628T183000
SUMMARY:Story time: Under the sea, a càrrec de Kids & Us
LOCATION:
METHOD:PUBLISH
X-WR-CALNAME:info@parets.cat
X-WR-TIMEZONE:Europe/Madrid
DESCRIPTION:Organitza: Biblioteca Can Rajoler
URI:https://www.parets.cat/actualitat/agenda/story-time-under-the-sea-a-carrec-de-kids-and-us.html
CLASS:PUBLIC
END:VEVENT
END:VCALENDAR
