BEGIN:VCALENDAR
VERSION:2.0
CALSCALE:GREGORIAN
PRODID:-//Diputació de Barcelona//DibaCMS//EN
BEGIN:VEVENT
UID:9580
DTSTAMP:20260424T200022
DTSTART:20220629T183000
DTEND:20220629T200000
SUMMARY:Club de lectura del llibre "El nen que volia matar" a càrrec de Sergi Cercós
LOCATION:
METHOD:PUBLISH
X-WR-CALNAME:info@parets.cat
X-WR-TIMEZONE:Europe/Madrid
DESCRIPTION:Organitza: Biblioteca Can Rajoler
URI:https://www.parets.cat/actualitat/agenda/club-de-lectura-del-llibre-el-nen-que-volia-matar-a-carrec-de-sergi-cercos.html
CLASS:PUBLIC
END:VEVENT
END:VCALENDAR
