BEGIN:VCALENDAR
VERSION:2.0
CALSCALE:GREGORIAN
PRODID:-//Diputació de Barcelona//DibaCMS//EN
BEGIN:VEVENT
UID:9581
DTSTAMP:20260424T232130
DTSTART:20220629T180000
DTEND:20220629T000000
SUMMARY:Tercer concurs de cuina
LOCATION:
METHOD:PUBLISH
X-WR-CALNAME:info@parets.cat
X-WR-TIMEZONE:Europe/Madrid
DESCRIPTION:Organitza: Servei de Gent Gran
URI:https://www.parets.cat/actualitat/agenda/tercer-concurs-de-cuina.html
CLASS:PUBLIC
END:VEVENT
END:VCALENDAR
