BEGIN:VCALENDAR
VERSION:2.0
CALSCALE:GREGORIAN
PRODID:-//Diputació de Barcelona//DibaCMS//EN
BEGIN:VEVENT
UID:9582
DTSTAMP:20260424T214624
DTSTART:20220701T173000
DTEND:20220701T193000
SUMMARY:Natura a les fosques. EL MAR
LOCATION:
METHOD:PUBLISH
X-WR-CALNAME:info@parets.cat
X-WR-TIMEZONE:Europe/Madrid
DESCRIPTION:Organitza: Escola de la Natura
URI:https://www.parets.cat/actualitat/agenda/natura-a-les-fosques-el-mar.html
CLASS:PUBLIC
END:VEVENT
END:VCALENDAR
