BEGIN:VCALENDAR
VERSION:2.0
CALSCALE:GREGORIAN
PRODID:-//Diputació de Barcelona//DibaCMS//EN
BEGIN:VEVENT
UID:9584
DTSTAMP:20260424T234501
DTSTART:20220701T000000
DTEND:20220725T000000
SUMMARY:Guarneix el teu aparador. 1r Concurs d'aparadors de Festa Major.
LOCATION:
METHOD:PUBLISH
X-WR-CALNAME:info@parets.cat
X-WR-TIMEZONE:Europe/Madrid
DESCRIPTION:Organitza: Departament de comerç
URI:https://www.parets.cat/actualitat/agenda/9584-guarneix-el-teu-aparador-1r-concurs-daparadors-de-festa-major.html
CLASS:PUBLIC
END:VEVENT
END:VCALENDAR
