BEGIN:VCALENDAR
VERSION:2.0
CALSCALE:GREGORIAN
PRODID:-//Diputació de Barcelona//DibaCMS//EN
BEGIN:VEVENT
UID:9586
DTSTAMP:20260424T232350
DTSTART:20220701T173000
DTEND:20220701T193000
SUMMARY:Jocs d'aigua
LOCATION:
METHOD:PUBLISH
X-WR-CALNAME:info@parets.cat
X-WR-TIMEZONE:Europe/Madrid
DESCRIPTION:Organitza: Casal de Joves Cal Jardiner
URI:https://www.parets.cat/actualitat/agenda/jocs-daigua.html
CLASS:PUBLIC
END:VEVENT
END:VCALENDAR
