BEGIN:VCALENDAR
VERSION:2.0
CALSCALE:GREGORIAN
PRODID:-//Diputació de Barcelona//DibaCMS//EN
BEGIN:VEVENT
UID:9587
DTSTAMP:20260424T213331
DTSTART:20220701T200000
DTEND:20220701T000000
SUMMARY:Nit de l'esport
LOCATION:
METHOD:PUBLISH
X-WR-CALNAME:info@parets.cat
X-WR-TIMEZONE:Europe/Madrid
DESCRIPTION:Organitza: Servei d'Esports
URI:https://www.parets.cat/actualitat/agenda/nit-de-lesport.html
CLASS:PUBLIC
END:VEVENT
END:VCALENDAR
