BEGIN:VCALENDAR
VERSION:2.0
CALSCALE:GREGORIAN
PRODID:-//Diputació de Barcelona//DibaCMS//EN
BEGIN:VEVENT
UID:9589
DTSTAMP:20260424T213522
DTSTART:20220702T170000
DTEND:20220702T000000
SUMMARY:Matinal motera solidària amb l'ONG YOUBARI. Tornem a Eixamplar la Festa!
LOCATION:
METHOD:PUBLISH
X-WR-CALNAME:info@parets.cat
X-WR-TIMEZONE:Europe/Madrid
DESCRIPTION:
URI:https://www.parets.cat/actualitat/agenda/9589-matinal-motera-solidaria-amb-long-youbari-tornem-a-eixamplar-la-festa.html
CLASS:PUBLIC
END:VEVENT
END:VCALENDAR
