BEGIN:VCALENDAR
VERSION:2.0
CALSCALE:GREGORIAN
PRODID:-//Diputació de Barcelona//DibaCMS//EN
BEGIN:VEVENT
UID:9590
DTSTAMP:20260424T214514
DTSTART:20220702T210000
DTEND:20220702T000000
SUMMARY:Revetlla de Sant Joan amb el Duet Mar i Cel
LOCATION:
METHOD:PUBLISH
X-WR-CALNAME:info@parets.cat
X-WR-TIMEZONE:Europe/Madrid
DESCRIPTION:Organitza: Servei de Gent Gran
URI:https://www.parets.cat/actualitat/agenda/revetlla-de-sant-joan-amb-el-duet-mar-i-cel.html
CLASS:PUBLIC
END:VEVENT
END:VCALENDAR
