BEGIN:VCALENDAR
VERSION:2.0
CALSCALE:GREGORIAN
PRODID:-//Diputació de Barcelona//DibaCMS//EN
BEGIN:VEVENT
UID:9591
DTSTAMP:20260424T195911
DTSTART:20220702T180000
DTEND:20220702T000000
SUMMARY:Splash Slide. Tornem a Eixamplar la Festa!
LOCATION:
METHOD:PUBLISH
X-WR-CALNAME:info@parets.cat
X-WR-TIMEZONE:Europe/Madrid
DESCRIPTION:Organitza: Ajuntament de Parets i Comissió de festes
URI:https://www.parets.cat/actualitat/agenda/splash-slide-tornem-a-eixamplar-la-festa.html
CLASS:PUBLIC
END:VEVENT
END:VCALENDAR
