BEGIN:VCALENDAR
VERSION:2.0
CALSCALE:GREGORIAN
PRODID:-//Diputació de Barcelona//DibaCMS//EN
BEGIN:VEVENT
UID:9592
DTSTAMP:20260424T220716
DTSTART:20220702T200000
DTEND:20220702T000000
SUMMARY:Revetlla de Sant Joan amb el grup Choffers
LOCATION:
METHOD:PUBLISH
X-WR-CALNAME:info@parets.cat
X-WR-TIMEZONE:Europe/Madrid
DESCRIPTION:Organitza: Casal Asoveen
URI:https://www.parets.cat/actualitat/agenda/revetlla-de-sant-joan-amb-el-grup-choffers.html
CLASS:PUBLIC
END:VEVENT
END:VCALENDAR
