BEGIN:VCALENDAR
VERSION:2.0
CALSCALE:GREGORIAN
PRODID:-//Diputació de Barcelona//DibaCMS//EN
BEGIN:VEVENT
UID:9593
DTSTAMP:20260425T010326
DTSTART:20220702T180000
DTEND:20220702T000000
SUMMARY:Mega Park. Tornem a Eixamplar la Festa!
LOCATION:
METHOD:PUBLISH
X-WR-CALNAME:info@parets.cat
X-WR-TIMEZONE:Europe/Madrid
DESCRIPTION:
URI:https://www.parets.cat/actualitat/agenda/mega-park-tornem-a-eixamplar-la-festa.html
CLASS:PUBLIC
END:VEVENT
END:VCALENDAR
