BEGIN:VCALENDAR
VERSION:2.0
CALSCALE:GREGORIAN
PRODID:-//Diputació de Barcelona//DibaCMS//EN
BEGIN:VEVENT
UID:9596
DTSTAMP:20260424T232118
DTSTART:20220705T173000
DTEND:20220705T193000
SUMMARY:Biblioparc 2022
LOCATION:
METHOD:PUBLISH
X-WR-CALNAME:info@parets.cat
X-WR-TIMEZONE:Europe/Madrid
DESCRIPTION:Organitza: Biblioteca Can Rajoler
URI:https://www.parets.cat/actualitat/agenda/biblioparc-2022.html
CLASS:PUBLIC
END:VEVENT
END:VCALENDAR
