BEGIN:VCALENDAR
VERSION:2.0
CALSCALE:GREGORIAN
PRODID:-//Diputació de Barcelona//DibaCMS//EN
BEGIN:VEVENT
UID:9597
DTSTAMP:20260424T214424
DTSTART:20220705T180000
DTEND:20220705T190000
SUMMARY:Espectacle de màgia: Deixa't il·lusionar, a càrrec del Mag Màgic i Miss Alice
LOCATION:
METHOD:PUBLISH
X-WR-CALNAME:info@parets.cat
X-WR-TIMEZONE:Europe/Madrid
DESCRIPTION:Organitza: Biblioteca Can Rajoler
URI:https://www.parets.cat/actualitat/agenda/espectacle-de-magia-deixat-illusionar-a-carrec-del-mag-magic-i-miss-alice.html
CLASS:PUBLIC
END:VEVENT
END:VCALENDAR
