BEGIN:VCALENDAR
VERSION:2.0
CALSCALE:GREGORIAN
PRODID:-//Diputació de Barcelona//DibaCMS//EN
BEGIN:VEVENT
UID:9601
DTSTAMP:20260423T211947
DTSTART:20220707T210000
DTEND:20220707T000000
SUMMARY:Digital Rock. Lullaby. Tornem a Eixamplar la Festa!
LOCATION:
METHOD:PUBLISH
X-WR-CALNAME:info@parets.cat
X-WR-TIMEZONE:Europe/Madrid
DESCRIPTION:Organitza: Ajuntament de Parets i Comissió de festes
URI:https://www.parets.cat/actualitat/agenda/digital-rock-lullaby-tornem-a-eixamplar-la-festa.html
CLASS:PUBLIC
END:VEVENT
END:VCALENDAR
