BEGIN:VCALENDAR
VERSION:2.0
CALSCALE:GREGORIAN
PRODID:-//Diputació de Barcelona//DibaCMS//EN
BEGIN:VEVENT
UID:9603
DTSTAMP:20260423T212033
DTSTART:20220707T173000
DTEND:20220707T193000
SUMMARY:Taller infantil Bricomàgia: Crea els teus propis trucs
LOCATION:
METHOD:PUBLISH
X-WR-CALNAME:info@parets.cat
X-WR-TIMEZONE:Europe/Madrid
DESCRIPTION:Organitza: Biblioteca Can Rajoler
URI:https://www.parets.cat/actualitat/agenda/taller-infantil-bricomagia-crea-els-teus-propis-trucs.html
CLASS:PUBLIC
END:VEVENT
END:VCALENDAR
