BEGIN:VCALENDAR
VERSION:2.0
CALSCALE:GREGORIAN
PRODID:-//Diputació de Barcelona//DibaCMS//EN
BEGIN:VEVENT
UID:9605
DTSTAMP:20260424T041415
DTSTART:20220708T173000
DTEND:20220708T193000
SUMMARY:Natura a les fosques. PAPALLONES I CUQUES DE LLUM
LOCATION:
METHOD:PUBLISH
X-WR-CALNAME:info@parets.cat
X-WR-TIMEZONE:Europe/Madrid
DESCRIPTION:Organitza: Escola de la Natura
URI:https://www.parets.cat/actualitat/agenda/natura-a-les-fosques-papallones-i-cuques-de-llum.html
CLASS:PUBLIC
END:VEVENT
END:VCALENDAR
