BEGIN:VCALENDAR
VERSION:2.0
CALSCALE:GREGORIAN
PRODID:-//Diputació de Barcelona//DibaCMS//EN
BEGIN:VEVENT
UID:9607
DTSTAMP:20260424T021627
DTSTART:20220708T173000
DTEND:20220708T193000
SUMMARY:Taller infantil Bricomàgia: Què sortirà d'aquest barret?
LOCATION:
METHOD:PUBLISH
X-WR-CALNAME:info@parets.cat
X-WR-TIMEZONE:Europe/Madrid
DESCRIPTION:Organitza: Biblioteca Can Rajoler
URI:https://www.parets.cat/actualitat/agenda/taller-infantil-bricomagia-que-sortira-daquest-barret.html
CLASS:PUBLIC
END:VEVENT
END:VCALENDAR
