BEGIN:VCALENDAR
VERSION:2.0
CALSCALE:GREGORIAN
PRODID:-//Diputació de Barcelona//DibaCMS//EN
BEGIN:VEVENT
UID:9608
DTSTAMP:20260424T023455
DTSTART:20220708T170000
DTEND:20220708T000000
SUMMARY:Espai Jam! Tastet de l'espai d'experimentació musical
LOCATION:
METHOD:PUBLISH
X-WR-CALNAME:info@parets.cat
X-WR-TIMEZONE:Europe/Madrid
DESCRIPTION:Organitza: Casal de Joves Cal Jardiner
URI:https://www.parets.cat/actualitat/agenda/espai-jam-tastet-de-lespai-dexperimentacio-musical.html
CLASS:PUBLIC
END:VEVENT
END:VCALENDAR
