BEGIN:VCALENDAR
VERSION:2.0
CALSCALE:GREGORIAN
PRODID:-//Diputació de Barcelona//DibaCMS//EN
BEGIN:VEVENT
UID:9609
DTSTAMP:20260423T211801
DTSTART:20220709T000000
DTEND:20220709T000000
SUMMARY:Dia de la música de Parets. Tornem a Eixamplar la Festa!
LOCATION:
METHOD:PUBLISH
X-WR-CALNAME:info@parets.cat
X-WR-TIMEZONE:Europe/Madrid
DESCRIPTION:Organitza: Ajuntament de Parets i Comissió de festes
URI:https://www.parets.cat/actualitat/agenda/dia-de-la-musica-de-parets-tornem-a-eixamplar-la-festa.html
CLASS:PUBLIC
END:VEVENT
END:VCALENDAR
