BEGIN:VCALENDAR
VERSION:2.0
CALSCALE:GREGORIAN
PRODID:-//Diputació de Barcelona//DibaCMS//EN
BEGIN:VEVENT
UID:9615
DTSTAMP:20260424T041708
DTSTART:20220710T170000
DTEND:20220710T000000
SUMMARY:Taller de cuina d'estiu: Sucs naturals
LOCATION:
METHOD:PUBLISH
X-WR-CALNAME:info@parets.cat
X-WR-TIMEZONE:Europe/Madrid
DESCRIPTION:Organitza: Casal de Joves Cal Jardiner
URI:https://www.parets.cat/actualitat/agenda/taller-de-cuina-destiu-sucs-naturals.html
CLASS:PUBLIC
END:VEVENT
END:VCALENDAR
