BEGIN:VCALENDAR
VERSION:2.0
CALSCALE:GREGORIAN
PRODID:-//Diputació de Barcelona//DibaCMS//EN
BEGIN:VEVENT
UID:9616
DTSTAMP:20260424T041816
DTSTART:20220711T173000
DTEND:20220711T193000
SUMMARY:Taller infantil Bricomàgia: Crea la teva invitació de circ!
LOCATION:
METHOD:PUBLISH
X-WR-CALNAME:info@parets.cat
X-WR-TIMEZONE:Europe/Madrid
DESCRIPTION:Organitza: Biblioteca Can Rajoler
URI:https://www.parets.cat/actualitat/agenda/taller-infantil-bricomagia-crea-la-teva-invitacio-de-circ.html
CLASS:PUBLIC
END:VEVENT
END:VCALENDAR
