BEGIN:VCALENDAR
VERSION:2.0
CALSCALE:GREGORIAN
PRODID:-//Diputació de Barcelona//DibaCMS//EN
BEGIN:VEVENT
UID:9617
DTSTAMP:20260423T204623
DTSTART:20220711T190000
DTEND:20220711T000000
SUMMARY:Recepció als millors esportistes de Parets de l'última temporada
LOCATION:
METHOD:PUBLISH
X-WR-CALNAME:info@parets.cat
X-WR-TIMEZONE:Europe/Madrid
DESCRIPTION:Organitza: Servei d'Esports
URI:https://www.parets.cat/actualitat/agenda/recepcio-als-millors-esportistes-de-parets-de-lultima-temporada.html
CLASS:PUBLIC
END:VEVENT
END:VCALENDAR
