BEGIN:VCALENDAR
VERSION:2.0
CALSCALE:GREGORIAN
PRODID:-//Diputació de Barcelona//DibaCMS//EN
BEGIN:VEVENT
UID:9618
DTSTAMP:20260423T211912
DTSTART:20220712T180000
DTEND:20220712T190000
SUMMARY:Espectacle de circ: El circ és un conte, a càrrec d'Oli Clown.
LOCATION:
METHOD:PUBLISH
X-WR-CALNAME:info@parets.cat
X-WR-TIMEZONE:Europe/Madrid
DESCRIPTION:Organitza: Can Rajoler
URI:https://www.parets.cat/actualitat/agenda/espectacle-de-circ-el-circ-es-un-conte-a-carrec-doli-clown.html
CLASS:PUBLIC
END:VEVENT
END:VCALENDAR
