BEGIN:VCALENDAR
VERSION:2.0
CALSCALE:GREGORIAN
PRODID:-//Diputació de Barcelona//DibaCMS//EN
BEGIN:VEVENT
UID:9619
DTSTAMP:20260423T200215
DTSTART:20220713T173000
DTEND:20220713T193000
SUMMARY:Taller infanti Bricomàgia: Un photocall molt pallasso!
LOCATION:
METHOD:PUBLISH
X-WR-CALNAME:info@parets.cat
X-WR-TIMEZONE:Europe/Madrid
DESCRIPTION:Organitza: Biblioteca Can Rajoler
URI:https://www.parets.cat/actualitat/agenda/taller-infanti-bricomagia-un-photocall-molt-pallasso.html
CLASS:PUBLIC
END:VEVENT
END:VCALENDAR
