BEGIN:VCALENDAR
VERSION:2.0
CALSCALE:GREGORIAN
PRODID:-//Diputació de Barcelona//DibaCMS//EN
BEGIN:VEVENT
UID:9621
DTSTAMP:20260424T020304
DTSTART:20220713T170000
DTEND:20220713T190000
SUMMARY:Taller creatiu per a gent gran sobre manualitats
LOCATION:
METHOD:PUBLISH
X-WR-CALNAME:info@parets.cat
X-WR-TIMEZONE:Europe/Madrid
DESCRIPTION:Organitza: Biblioteca Can Rajoler
URI:https://www.parets.cat/actualitat/agenda/9621-taller-creatiu-per-a-gent-gran-sobre-manualitats.html
CLASS:PUBLIC
END:VEVENT
END:VCALENDAR
