BEGIN:VCALENDAR
VERSION:2.0
CALSCALE:GREGORIAN
PRODID:-//Diputació de Barcelona//DibaCMS//EN
BEGIN:VEVENT
UID:9622
DTSTAMP:20260423T211730
DTSTART:20220713T170000
DTEND:20220713T190000
SUMMARY:Drink Pong
LOCATION:
METHOD:PUBLISH
X-WR-CALNAME:info@parets.cat
X-WR-TIMEZONE:Europe/Madrid
DESCRIPTION:Organitza: Casal de Joves Cal Jardiner
URI:https://www.parets.cat/actualitat/agenda/drink-pong.html
CLASS:PUBLIC
END:VEVENT
END:VCALENDAR
